BEGIN:VCALENDAR
VERSION:2.0
PRODID:-//Newly Swissed Online Magazine - ECPv5.16.2.1//NONSGML v1.0//EN
CALSCALE:GREGORIAN
METHOD:PUBLISH
X-ORIGINAL-URL:https://www.newlyswissed.com
X-WR-CALDESC:Events for Newly Swissed Online Magazine
REFRESH-INTERVAL;VALUE=DURATION:PT1H
X-Robots-Tag:noindex
X-PUBLISHED-TTL:PT1H
BEGIN:VTIMEZONE
TZID:Europe/Paris
BEGIN:DAYLIGHT
TZOFFSETFROM:+0100
TZOFFSETTO:+0200
TZNAME:CEST
DTSTART:20160327T010000
END:DAYLIGHT
BEGIN:STANDARD
TZOFFSETFROM:+0200
TZOFFSETTO:+0100
TZNAME:CET
DTSTART:20161030T010000
END:STANDARD
BEGIN:DAYLIGHT
TZOFFSETFROM:+0100
TZOFFSETTO:+0200
TZNAME:CEST
DTSTART:20170326T010000
END:DAYLIGHT
BEGIN:STANDARD
TZOFFSETFROM:+0200
TZOFFSETTO:+0100
TZNAME:CET
DTSTART:20171029T010000
END:STANDARD
BEGIN:DAYLIGHT
TZOFFSETFROM:+0100
TZOFFSETTO:+0200
TZNAME:CEST
DTSTART:20180325T010000
END:DAYLIGHT
BEGIN:STANDARD
TZOFFSETFROM:+0200
TZOFFSETTO:+0100
TZNAME:CET
DTSTART:20181028T010000
END:STANDARD
END:VTIMEZONE
BEGIN:VEVENT
DTSTART;TZID=Europe/Paris:20180603T163000
DTEND;TZID=Europe/Paris:20180603T213000
DTSTAMP:20260421T123418
CREATED:20180517T062007Z
LAST-MODIFIED:20180517T062043Z
UID:50155-1528043400-1528061400@www.newlyswissed.com
SUMMARY:Farm Table at Bauernhof zur Chalte Hose (Forch)
DESCRIPTION:Farm Table reconnects people with local farmers who care about sustainable food. \nAnd on June 3\, they will be hosting a dinner as close to the source of healthy ingredients as you can get: At the organic farm Zur Chalte Hose in Forch near Zürich. The event organizers promise appetizers and a welcome drink to start out the evening. After a brief speech and a guided farm tour by the owners\, Claudia Wanger and Nils Müller\, everyone will have a seat at the long dinner table. \nIndulge in the creations by Fabian Spiquel from Maison Manesse\nHere\, you will get to enjoy a five course meal composed by the renowned guest chef\, Fabian Spiquel\, from Maison Manesse Zürich. The food will be cooked in his outdoor kitchen using seasonal ingredients from the very same farm that is hosting the dinner. \n \nThe price per person of 195 francs including alcoholic beverages\, or 155 francs per person including tap water and coffee. If you prefer a vegetarian option\, please email the organizer. \nMore information about the farm Zur Chalte Hose. (The name quite literally stands for “cold pants”.) \n(Photographs Farm Table and Maison Manesse)
URL:https://www.newlyswissed.com/event/farm-table-bauernhof-zur-chalte-hose/
LOCATION:Bauernhof zur Chalte Hose\, Hohrütistrasse 12\, Forch\, ZH\, 8127\, Switzerland
CATEGORIES:Food/Gourmet
ATTACH;FMTTYPE=image/jpeg:https://www.newlyswissed.com/wp-content/uploads/2018/05/FarmTable-Event-01.jpg
ORGANIZER;CN="Farm%20Table":MAILTO:marko.vidmar@bluewin.ch
GEO:47.3113493;8.6378506
X-APPLE-STRUCTURED-LOCATION;VALUE=URI;X-ADDRESS=Bauernhof zur Chalte Hose Hohrütistrasse 12 Forch ZH 8127 Switzerland;X-APPLE-RADIUS=500;X-TITLE=Hohrütistrasse 12:geo:8.6378506,47.3113493
END:VEVENT
BEGIN:VEVENT
DTSTART;TZID=Europe/Paris:20170617T170000
DTEND;TZID=Europe/Paris:20170617T220000
DTSTAMP:20260421T123418
CREATED:20170502T110828Z
LAST-MODIFIED:20170515T101454Z
UID:43150-1497718800-1497736800@www.newlyswissed.com
SUMMARY:Farm Table Dinner at Bauernhof "zur Chalte Hose" (Forch)
DESCRIPTION:Farm Table reconnects people with local farmers who care about sustainable food and organizes a dinner right at the source of ingredients. \nThe event organizers promise appetizers and a welcome drink to start out the evening. After a brief speech and a guided farm tour by the host\, everyone will have a seat at the long dinner table.  \nHere\, you will get to enjoy a five course meal composed by the chef in his outdoor kitchen\, using seasonal food from the farm. Tap water is included in the price\, but wine and coffee may be ordered on site for an extra charge. \nRSVP your seat online (regular price: CHF 105\, vegetarian: CHF 85) \nAbout the farm “Zur Chalte Hose”\nThis organic farm Zur Chalte Hose near Zürich is home to a herd of Angus mother cows\, Pomeranian ducks\, Croatian turopolje pigs and horses. Also\, the name quite literally stands for cold pants. \nThe owners are Claudia Wanger and Nils Müller. They have set up the farm and are leading it with great dedication\, following the highest principles in terms of ethics\, ecology and treatment of animal species. \nAs the only Swiss farm\, they are allowed to slaughter cows on the pasture. Apart from the Farm Table event\, they run a farm shop and a typical small farm restaurant (“Beiz”) where they serve an organic meal every other week.
URL:https://www.newlyswissed.com/event/farm-table-dinner-bauernhof-zur-chalte-hose/
LOCATION:Bauernhof zur Chalte Hose\, Hohrütistrasse 12\, Forch\, ZH\, 8127\, Switzerland
CATEGORIES:Food/Gourmet
ATTACH;FMTTYPE=image/jpeg:https://www.newlyswissed.com/wp-content/uploads/2017/05/Farm-to-Table-Dinner-01.jpg
ORGANIZER;CN="Farm%20Table":MAILTO:marko.vidmar@bluewin.ch
GEO:47.3113493;8.6378506
X-APPLE-STRUCTURED-LOCATION;VALUE=URI;X-ADDRESS=Bauernhof zur Chalte Hose Hohrütistrasse 12 Forch ZH 8127 Switzerland;X-APPLE-RADIUS=500;X-TITLE=Hohrütistrasse 12:geo:8.6378506,47.3113493
END:VEVENT
BEGIN:VEVENT
DTSTART;TZID=Europe/Paris:20160924T170000
DTEND;TZID=Europe/Paris:20160924T220000
DTSTAMP:20260421T123418
CREATED:20160913T191418Z
LAST-MODIFIED:20160913T214230Z
UID:39225-1474736400-1474754400@www.newlyswissed.com
SUMMARY:Farm Table Dinner (Dällikon)
DESCRIPTION:At the source of sustainable food\, the organizers of “Farm Table” are eager to serve a tavolata. \nThe meals will be prepared in the outdoor kitchen\, using as many ingredients from the farm as possible. The organizers’ mission is to reconnect a dinner experience with the source of food and honor local producers who care about this tradition. \nArriving guests will be welcomed with a beverage and appetizers. Afterwards\, there will be an introductory talk and a guided tour of the farm. The tour will end at the table where guests get to enjoy a meal composed by the chef. \nDinner will be served “tavolata” style and is included in the 75 franc flat fee. Wine may be ordered on site and is extra\, so make sure to bring some cash depending on your drinking assets… \nMore information
URL:https://www.newlyswissed.com/event/farm-to-table-dinner/
LOCATION:Brüederhof\, Brüederhof\, Dällikon\, ZH\, 8108\, Switzerland
CATEGORIES:Food/Gourmet
ATTACH;FMTTYPE=image/jpeg:https://www.newlyswissed.com/wp-content/uploads/2016/09/Tavolata-Farm-Table.jpg
ORGANIZER;CN="Farm%20Table":MAILTO:marko.vidmar@bluewin.ch
GEO:47.4465311;8.4244575
X-APPLE-STRUCTURED-LOCATION;VALUE=URI;X-ADDRESS=Brüederhof Brüederhof Dällikon ZH 8108 Switzerland;X-APPLE-RADIUS=500;X-TITLE=Brüederhof:geo:8.4244575,47.4465311
END:VEVENT
END:VCALENDAR